BEGIN:VCALENDAR
VERSION:2.0
PRODID:-//UTK//Academic Calendar//EN
CALSCALE:GREGORIAN
METHOD:PUBLISH
BEGIN:VEVENT
UID:336@academic-calendar.utk.edu
SUMMARY:3rd Session Summer Courses End
DTSTAMP:20260425T130352Z
DTSTART;VALUE=DATE:20260724
DTEND;VALUE=DATE:20260725
DESCRIPTION:Third session summer courses end.
URL;VALUE=URI:https://registrar.utk.edu/academic-date/3rd-session-summer-courses-end/
END:VEVENT
END:VCALENDAR