BEGIN:VCALENDAR
VERSION:2.0
PRODID:-//UTK//Academic Calendar//EN
CALSCALE:GREGORIAN
METHOD:PUBLISH
BEGIN:VEVENT
UID:323@academic-calendar.utk.edu
SUMMARY:Spring Probation and Dismissal Notifications Sent to Affected Students
DTSTAMP:20260425T145802Z
DTSTART:20260521T040000Z
DTEND:20260521T040000Z
DESCRIPTION:Students are notified of academic probation or dismissal based on spring term grades.
URL;VALUE=URI:https://registrar.utk.edu/academic-date/spring-probation-and-dismissal-notifications-sent-to-affected-students/
END:VEVENT
END:VCALENDAR