BEGIN:VCALENDAR
VERSION:2.0
PRODID:-//UTK//Academic Calendar//EN
CALSCALE:GREGORIAN
METHOD:PUBLISH
BEGIN:VEVENT
UID:316@academic-calendar.utk.edu
SUMMARY:Deadline to Resolve Incomplete and NR Grades from Spring 2025
DTSTAMP:20260425T182334Z
DTSTART:20260507T040000Z
DTEND:20260507T040000Z
DESCRIPTION:This is the last day to resolve incomplete or NR grades from the previous spring term.
URL;VALUE=URI:https://registrar.utk.edu/academic-date/deadline-to-resolve-incomplete-and-nr-grades-from-spring-2025/
END:VEVENT
END:VCALENDAR