BEGIN:VCALENDAR
VERSION:2.0
PRODID:-//UTK//Academic Calendar//EN
CALSCALE:GREGORIAN
METHOD:PUBLISH
BEGIN:VEVENT
UID:309@academic-calendar.utk.edu
SUMMARY:Deadline to Submit Attendance for 2nd Session Spring Courses
DTSTAMP:20260425T141452Z
DTSTART:20260324T040000Z
DTEND:20260324T040000Z
DESCRIPTION:Instuctors must submit attendance reporting for second session spring courses by this date for financial aid compliance and institutional reporting.
URL;VALUE=URI:https://registrar.utk.edu/academic-date/deadline-to-submit-attendance-for-2nd-session-spring-courses/
END:VEVENT
END:VCALENDAR