BEGIN:VCALENDAR
VERSION:2.0
PRODID:-//UTK//Academic Calendar//EN
CALSCALE:GREGORIAN
METHOD:PUBLISH
BEGIN:VEVENT
UID:303@academic-calendar.utk.edu
SUMMARY:Deadline to Withdraw from 1st Session Spring Courses
DTSTAMP:20260425T173327Z
DTSTART:20260306T050000Z
DTEND:20260306T050000Z
DESCRIPTION:This is the last date to withdraw from first session spring courses.
URL;VALUE=URI:https://registrar.utk.edu/academic-date/deadline-to-withdraw-from-1st-session-spring-courses/
END:VEVENT
END:VCALENDAR