BEGIN:VCALENDAR
VERSION:2.0
PRODID:-//UTK//Academic Calendar//EN
CALSCALE:GREGORIAN
METHOD:PUBLISH
BEGIN:VEVENT
UID:301@academic-calendar.utk.edu
SUMMARY:Grade Submission Opens for 1st Session Spring Courses
DTSTAMP:20260425T154331Z
DTSTART:20260305T050000Z
DTEND:20260305T050000Z
DESCRIPTION:Instuctors may begin submitting grades for first session spring courses.
URL;VALUE=URI:https://registrar.utk.edu/academic-date/grade-submission-opens-for-1st-session-spring-courses/
END:VEVENT
END:VCALENDAR