BEGIN:VCALENDAR
VERSION:2.0
PRODID:-//UTK//Academic Calendar//EN
CALSCALE:GREGORIAN
METHOD:PUBLISH
BEGIN:VEVENT
UID:297@academic-calendar.utk.edu
SUMMARY:Deadline to Add or Drop Without a &#8220\;W&#8221\;\, Change Variable Credit Hours\, Registration Student Level\, or Grading Option for 1st and Full Session Spring Courses
DTSTAMP:20260425T191604Z
DTSTART:20260126T050000Z
DTEND:20260126T050000Z
DESCRIPTION:This is the last day to adjust registration for first or full session spring courses without a "W" grade\, including adding courses\, dropping courses\, changing variable credit hours\, student level\, or grading options.
URL;VALUE=URI:https://registrar.utk.edu/academic-date/deadline-to-add-or-drop-without-a-w-change-variable-credit-hours-registration-student-level-or-grading-option-for-1st-and-full-session-spring-courses/
END:VEVENT
END:VCALENDAR