BEGIN:VCALENDAR
VERSION:2.0
PRODID:-//UTK//Academic Calendar//EN
CALSCALE:GREGORIAN
METHOD:PUBLISH
BEGIN:VEVENT
UID:288@academic-calendar.utk.edu
SUMMARY:Grade Submission Opens for Winter Mini-Term Courses
DTSTAMP:20260425T132133Z
DTSTART:20260115T050000Z
DTEND:20260115T050000Z
DESCRIPTION:Instructors may begin submitting grades for winter mini-term courses.
URL;VALUE=URI:https://registrar.utk.edu/academic-date/grade-submission-opens-for-winter-mini-term-courses/
END:VEVENT
END:VCALENDAR