BEGIN:VCALENDAR
VERSION:2.0
PRODID:-//UTK//Academic Calendar//EN
CALSCALE:GREGORIAN
METHOD:PUBLISH
BEGIN:VEVENT
UID:282@academic-calendar.utk.edu
SUMMARY:Winter Holiday— Administrative Close
DTSTAMP:20260425T110117Z
DTSTART:20251222T050000Z
DTEND:20251226T050000Z
DESCRIPTION:University closed\; no classes.
URL;VALUE=URI:https://registrar.utk.edu/academic-date/winter-holiday-administrative-close/
END:VEVENT
END:VCALENDAR