BEGIN:VCALENDAR
VERSION:2.0
PRODID:-//UTK//Academic Calendar//EN
CALSCALE:GREGORIAN
METHOD:PUBLISH
BEGIN:VEVENT
UID:266@academic-calendar.utk.edu
SUMMARY:Spring Account Statements Available in MyUTK
DTSTAMP:20260425T140528Z
DTSTART:20251121T050000Z
DTEND:20251121T050000Z
DESCRIPTION:Tuition and fees for the fall term are posted to MyUTK. You should review your account statements and payment options as soon as possible.
URL;VALUE=URI:https://registrar.utk.edu/academic-date/spring-account-statements-available-in-myutk/
END:VEVENT
END:VCALENDAR