BEGIN:VCALENDAR
VERSION:2.0
PRODID:-//UTK//Academic Calendar//EN
CALSCALE:GREGORIAN
METHOD:PUBLISH
BEGIN:VEVENT
UID:260@academic-calendar.utk.edu
SUMMARY:Spring Registration Begins for Seniors
DTSTAMP:20260425T160207Z
DTSTART:20251027T040000Z
DTEND:20251028T040000Z
DESCRIPTION:Registration for the fall term opens for students with senior standing. Check MyUTK for your specific registration time.
URL;VALUE=URI:https://registrar.utk.edu/academic-date/spring-registration-begins-for-seniors/
END:VEVENT
END:VCALENDAR