BEGIN:VCALENDAR
VERSION:2.0
PRODID:-//UTK//Academic Calendar//EN
CALSCALE:GREGORIAN
METHOD:PUBLISH
BEGIN:VEVENT
UID:254@academic-calendar.utk.edu
SUMMARY:Deadline to Add or Dop Without a &#8220\;W&#8221\;\, Change Variable Credit Hours\, Registration Student Level\, or Grading Option for 2nd Session Fall Courses
DTSTAMP:20260425T135507Z
DTSTART:20251010T040000Z
DTEND:20251010T040000Z
DESCRIPTION:This is the last day to adjust registration for second session fall courses without a "W" grade.
URL;VALUE=URI:https://registrar.utk.edu/academic-date/deadline-to-add-or-dop-without-a-w-change-variable-credit-hours-registration-student-level-or-grading-option-for-2nd-session-fall-courses/
END:VEVENT
END:VCALENDAR