BEGIN:VCALENDAR
VERSION:2.0
PRODID:-//UTK//Academic Calendar//EN
CALSCALE:GREGORIAN
METHOD:PUBLISH
BEGIN:VEVENT
UID:248@academic-calendar.utk.edu
SUMMARY:Grade Submission Opens for 1st Session Fall Courses
DTSTAMP:20260425T131347Z
DTSTART:20251003T040000Z
DTEND:20251003T040000Z
DESCRIPTION:Instructors may begin submitting grades for first session fall courses.
URL;VALUE=URI:https://registrar.utk.edu/academic-date/grade-submission-opens-for-1st-session-fall-courses/
END:VEVENT
END:VCALENDAR