BEGIN:VCALENDAR
VERSION:2.0
PRODID:-//UTK//Academic Calendar//EN
CALSCALE:GREGORIAN
METHOD:PUBLISH
BEGIN:VEVENT
UID:245@academic-calendar.utk.edu
SUMMARY:Winter Mini-Term Timetable Available
DTSTAMP:20260425T133524Z
DTSTART:20250915T040000Z
DTEND:20250915T040000Z
DESCRIPTION:The timetable of calsses for the winter mini-term is published online. You can browse course offerings and plan ahead.
URL;VALUE=URI:https://registrar.utk.edu/academic-date/winter-mini-term-timetable-available/
END:VEVENT
END:VCALENDAR