BEGIN:VCALENDAR
VERSION:2.0
PRODID:-//UTK//Academic Calendar//EN
CALSCALE:GREGORIAN
METHOD:PUBLISH
BEGIN:VEVENT
UID:243@academic-calendar.utk.edu
SUMMARY:Financial Aid Freeze Date
DTSTAMP:20260425T110111Z
DTSTART:20250902T040000Z
DTEND:20250902T040000Z
DESCRIPTION:Enrollment is "frozen" for financial aid purposes. Financial aid awards are based on the number of credit hours a student is enrolled in as of this date.
URL;VALUE=URI:https://registrar.utk.edu/academic-date/financial-aid-freeze-date/
END:VEVENT
END:VCALENDAR