BEGIN:VCALENDAR
VERSION:2.0
PRODID:-//UTK//Academic Calendar//EN
CALSCALE:GREGORIAN
METHOD:PUBLISH
BEGIN:VEVENT
UID:237@academic-calendar.utk.edu
SUMMARY:Last Day for 100% Refund for 1st &#038\; Full Session Fall Courses
DTSTAMP:20260425T130324Z
DTSTART:20250822T040000Z
DTEND:20250822T040000Z
DESCRIPTION:This is the final day to drop first or full session fall courses and receive a 100% refund.
URL;VALUE=URI:https://registrar.utk.edu/academic-date/last-day-for-100-refund-for-1st-full-session-fall-courses/
END:VEVENT
END:VCALENDAR