BEGIN:VCALENDAR
VERSION:2.0
PRODID:-//UTK//Academic Calendar//EN
CALSCALE:GREGORIAN
METHOD:PUBLISH
BEGIN:VEVENT
UID:230@academic-calendar.utk.edu
SUMMARY:Fall Registration Begins for Seniors
DTSTAMP:20260425T145752Z
DTSTART:20250407T040000Z
DTEND:20250408T040000Z
DESCRIPTION:Registration for the fall term opens for students with senior standing. Check MyUTK for your specific registration time.
URL;VALUE=URI:https://registrar.utk.edu/academic-date/fall-registration-begins-for-seniors/
END:VEVENT
END:VCALENDAR